BEGIN:VCALENDAR
VERSION:2.0
PRODID:-//Unternehmensnetzwerk Moabit - ECPv6.15.15//NONSGML v1.0//EN
CALSCALE:GREGORIAN
METHOD:PUBLISH
X-WR-CALNAME:Unternehmensnetzwerk Moabit
X-ORIGINAL-URL:https://www.netzwerk-moabit.de
X-WR-CALDESC:Veranstaltungen für Unternehmensnetzwerk Moabit
REFRESH-INTERVAL;VALUE=DURATION:PT1H
X-Robots-Tag:noindex
X-PUBLISHED-TTL:PT1H
BEGIN:VTIMEZONE
TZID:Europe/Berlin
BEGIN:DAYLIGHT
TZOFFSETFROM:+0100
TZOFFSETTO:+0200
TZNAME:CEST
DTSTART:20240331T010000
END:DAYLIGHT
BEGIN:STANDARD
TZOFFSETFROM:+0200
TZOFFSETTO:+0100
TZNAME:CET
DTSTART:20241027T010000
END:STANDARD
BEGIN:DAYLIGHT
TZOFFSETFROM:+0100
TZOFFSETTO:+0200
TZNAME:CEST
DTSTART:20250330T010000
END:DAYLIGHT
BEGIN:STANDARD
TZOFFSETFROM:+0200
TZOFFSETTO:+0100
TZNAME:CET
DTSTART:20251026T010000
END:STANDARD
BEGIN:DAYLIGHT
TZOFFSETFROM:+0100
TZOFFSETTO:+0200
TZNAME:CEST
DTSTART:20260329T010000
END:DAYLIGHT
BEGIN:STANDARD
TZOFFSETFROM:+0200
TZOFFSETTO:+0100
TZNAME:CET
DTSTART:20261025T010000
END:STANDARD
END:VTIMEZONE
BEGIN:VEVENT
DTSTART;TZID=Europe/Berlin:20251120T093000
DTEND;TZID=Europe/Berlin:20251120T093000
DTSTAMP:20260424T200019
CREATED:20250822T130657Z
LAST-MODIFIED:20250822T131320Z
UID:1477-1763631000-1763631000@www.netzwerk-moabit.de
SUMMARY:Frühstück bei ProvenExpert
DESCRIPTION:Weitere Informationen folgen.
URL:https://www.netzwerk-moabit.de/veranstaltung/fruehstueck-bei-provenexpert/
END:VEVENT
END:VCALENDAR