BEGIN:VCALENDAR
VERSION:2.0
PRODID:-//Unternehmensnetzwerk Moabit - ECPv6.15.15//NONSGML v1.0//EN
CALSCALE:GREGORIAN
METHOD:PUBLISH
X-WR-CALNAME:Unternehmensnetzwerk Moabit
X-ORIGINAL-URL:https://www.netzwerk-moabit.de
X-WR-CALDESC:Veranstaltungen für Unternehmensnetzwerk Moabit
REFRESH-INTERVAL;VALUE=DURATION:PT1H
X-Robots-Tag:noindex
X-PUBLISHED-TTL:PT1H
BEGIN:VTIMEZONE
TZID:Europe/Berlin
BEGIN:DAYLIGHT
TZOFFSETFROM:+0100
TZOFFSETTO:+0200
TZNAME:CEST
DTSTART:20250330T010000
END:DAYLIGHT
BEGIN:STANDARD
TZOFFSETFROM:+0200
TZOFFSETTO:+0100
TZNAME:CET
DTSTART:20251026T010000
END:STANDARD
BEGIN:DAYLIGHT
TZOFFSETFROM:+0100
TZOFFSETTO:+0200
TZNAME:CEST
DTSTART:20260329T010000
END:DAYLIGHT
BEGIN:STANDARD
TZOFFSETFROM:+0200
TZOFFSETTO:+0100
TZNAME:CET
DTSTART:20261025T010000
END:STANDARD
BEGIN:DAYLIGHT
TZOFFSETFROM:+0100
TZOFFSETTO:+0200
TZNAME:CEST
DTSTART:20270328T010000
END:DAYLIGHT
BEGIN:STANDARD
TZOFFSETFROM:+0200
TZOFFSETTO:+0100
TZNAME:CET
DTSTART:20271031T010000
END:STANDARD
END:VTIMEZONE
BEGIN:VEVENT
DTSTART;TZID=Europe/Berlin:20260121T093000
DTEND;TZID=Europe/Berlin:20260121T113000
DTSTAMP:20260422T160340
CREATED:20260106T160405Z
LAST-MODIFIED:20260106T160405Z
UID:1652-1768987800-1768995000@www.netzwerk-moabit.de
SUMMARY:Unternehmerfrühstück bei Müller-Zeiner Industrieverpackungen GmbH
DESCRIPTION:Wer schon immer wissen wollte\, wie man überdimensional große\nProduktionsstücke Innovativ verpackt und mit ausgefeilter Logistik diese dann an die\nentferntesten Orte dieser Welt befördert\, ist bei diesem\nUnternehmerfrühstück an der richtigen Adresse. Wir bedanken uns für die Einladung bei\nunserem Netzwerkmitglied Firma Müller-Zeiner Industrieverpackungen GmbH. \nWir freuen uns auf Eure Zusage bis zum 19.01.2026 um 12:00 Uhr.\nBitte senden Sie / Ihr die Anmeldung an: gs@netzwerk-moabit.de
URL:https://www.netzwerk-moabit.de/veranstaltung/unternehmerfruehstueck-bei-mueller-zeiner-industrieverpackungen-gmbh/
LOCATION:Müller-Zeiner Industrieverpackungen GmbH\, Sickingenstraße 14-16\, Berlin\, 10553\, Germany
END:VEVENT
END:VCALENDAR