BEGIN:VCALENDAR
VERSION:2.0
PRODID:-//Unternehmensnetzwerk Moabit - ECPv6.15.15//NONSGML v1.0//EN
CALSCALE:GREGORIAN
METHOD:PUBLISH
X-ORIGINAL-URL:https://www.netzwerk-moabit.de
X-WR-CALDESC:Veranstaltungen für Unternehmensnetzwerk Moabit
REFRESH-INTERVAL;VALUE=DURATION:PT1H
X-Robots-Tag:noindex
X-PUBLISHED-TTL:PT1H
BEGIN:VTIMEZONE
TZID:Europe/Berlin
BEGIN:DAYLIGHT
TZOFFSETFROM:+0100
TZOFFSETTO:+0200
TZNAME:CEST
DTSTART:20250330T010000
END:DAYLIGHT
BEGIN:STANDARD
TZOFFSETFROM:+0200
TZOFFSETTO:+0100
TZNAME:CET
DTSTART:20251026T010000
END:STANDARD
BEGIN:DAYLIGHT
TZOFFSETFROM:+0100
TZOFFSETTO:+0200
TZNAME:CEST
DTSTART:20260329T010000
END:DAYLIGHT
BEGIN:STANDARD
TZOFFSETFROM:+0200
TZOFFSETTO:+0100
TZNAME:CET
DTSTART:20261025T010000
END:STANDARD
BEGIN:DAYLIGHT
TZOFFSETFROM:+0100
TZOFFSETTO:+0200
TZNAME:CEST
DTSTART:20270328T010000
END:DAYLIGHT
BEGIN:STANDARD
TZOFFSETFROM:+0200
TZOFFSETTO:+0100
TZNAME:CET
DTSTART:20271031T010000
END:STANDARD
END:VTIMEZONE
BEGIN:VEVENT
DTSTART;TZID=Europe/Berlin:20260122T180000
DTEND;TZID=Europe/Berlin:20260122T220000
DTSTAMP:20260422T141644
CREATED:20260114T135800Z
LAST-MODIFIED:20260114T135800Z
UID:1671-1769104800-1769119200@www.netzwerk-moabit.de
SUMMARY:NEUJAHRSEMPFANG MIT VERNISSAGE
DESCRIPTION:Unser Mitglied Jürgen Form\, Inhaber der FORM Gruppe und Präsident der Vereinigung der Wirtschaftskonsuln in Berlin-Brandenburg e.V. lädt die Mitglieder unseres Netzwerkes recht herzlich zum Neujahrsempfang ein. \nHighlight dieser Veranstaltung ist die Vernissage\n„BEGEGNUNGEN“ | Thomas Jastram / Bildhauer trifft auf „HABITANTES“ | Joel Rafael Oliva Solano / Maler \nGemeinsam möchten wir das neue Jahr gebührend begrüßen. Freuen Sie sich auf einen wunderbaren\, inspirierenden Abend in schönem Ambiente\, mit kulinarischen Genüssen und in bester Gesellschaft.\nAnmeldungen bitte bis zum 20.01.2025 an events(at)vwk-berlin.de
URL:https://www.netzwerk-moabit.de/veranstaltung/neujahrsempfang-mit-vernissage/
LOCATION:Form Unternehmensgrppe\, Nachtalbenweg 61\, Berlin\, 13088\, Germany
ORGANIZER;CN="Form Unternehmensgruppe":MAILTO:events@vwk-berlin.de
END:VEVENT
END:VCALENDAR