BEGIN:VCALENDAR
VERSION:2.0
PRODID:-//Unternehmensnetzwerk Moabit - ECPv6.15.15//NONSGML v1.0//EN
CALSCALE:GREGORIAN
METHOD:PUBLISH
X-ORIGINAL-URL:https://www.netzwerk-moabit.de
X-WR-CALDESC:Veranstaltungen für Unternehmensnetzwerk Moabit
REFRESH-INTERVAL;VALUE=DURATION:PT1H
X-Robots-Tag:noindex
X-PUBLISHED-TTL:PT1H
BEGIN:VTIMEZONE
TZID:Europe/Berlin
BEGIN:DAYLIGHT
TZOFFSETFROM:+0100
TZOFFSETTO:+0200
TZNAME:CEST
DTSTART:20240331T010000
END:DAYLIGHT
BEGIN:STANDARD
TZOFFSETFROM:+0200
TZOFFSETTO:+0100
TZNAME:CET
DTSTART:20241027T010000
END:STANDARD
BEGIN:DAYLIGHT
TZOFFSETFROM:+0100
TZOFFSETTO:+0200
TZNAME:CEST
DTSTART:20250330T010000
END:DAYLIGHT
BEGIN:STANDARD
TZOFFSETFROM:+0200
TZOFFSETTO:+0100
TZNAME:CET
DTSTART:20251026T010000
END:STANDARD
BEGIN:DAYLIGHT
TZOFFSETFROM:+0100
TZOFFSETTO:+0200
TZNAME:CEST
DTSTART:20260329T010000
END:DAYLIGHT
BEGIN:STANDARD
TZOFFSETFROM:+0200
TZOFFSETTO:+0100
TZNAME:CET
DTSTART:20261025T010000
END:STANDARD
END:VTIMEZONE
BEGIN:VEVENT
DTSTART;TZID=Europe/Berlin:20251212T090000
DTEND;TZID=Europe/Berlin:20251212T150000
DTSTAMP:20260422T141100
CREATED:20251205T090046Z
LAST-MODIFIED:20251205T104448Z
UID:1617-1765530000-1765551600@www.netzwerk-moabit.de
SUMMARY:Ausbildungsrecruitingkongress "Finden\, führen\, binden"
DESCRIPTION:Wie können passende Bewerberinnen und Bewerber für die Ausbildung gewonnen und als Fachkräfte im Unternehmen gehalten werden?\n\nRichten Sie Ihre Fachkräftesicherung noch entschiedener an den Bedürfnissen Ihrer derzeit wichtigsten Zielgruppe aus: der Generation Z. Sie wünscht sich mehr Transparenz\, möchte mitgenommen werden und erwartet Kommunikation auf Augenhöhe. Wir zeigen Verbesserungspotentiale auf und ermöglichen mithilfe von Impulsen einen Perspektivwechsel entlang der drei wichtigsten Handlungsfelder der Fachkräftesicherung: Das Finden\, Führen und Binden von Auszubildenden. \nEin Einblick in das Programm: \n\nFührung von Auszubildenden – In seiner Keynote zeigt Jugendforscher Simon Schnetzer konkrete Lösungsansätze\, wie altersgemischte Teams optimal zusammenarbeiten können\, und beleuchtet damit einen bislang wenig beachteten Aspekt der Ausbildungspraxis.\nEchte Benefits in der Ausbildung – Alexander Steffen von der Messe Berlin präsentiert praxisnahe Ideen\, wie Unternehmen durch Auslandsaufenthalte Talente nachhaltig binden können.\nEchtes Ankommen statt bloßes Einarbeiten – In ihrem GenZ-Onboarding-Guide zeigen Lara Laurenz und Markus Laurenz von der Initiative OurGenerationZ\, wie Unternehmen junge Menschen mit Haltung\, Offenheit und Purpose gewinnen – und aus dem ersten Tag den Beginn einer gemeinsamen Zukunft machen.\n\n\n  \nSeien Sie dabei: \nWann: Am Freitag\, den 12. Dezember 2025\, von 09:00 bis 15:00 Uhr\nWo: in der IHK Berlin\, Fasanenstr. 85\, 10623 Berlin\nTeilnahme: kostenfrei \nMelden Sie sich jetzt bis zum 11.12.2025 an. \nLINK: ANMELDUNG \nWir freuen uns auf Ihre Teilnahme. \nIhre Ansprechpartner für Fragen zu Organisation und Ablauf:\nGregor Wendler\nAusbildungsoffensive\nTelefon: 030 31510-334\, E-Mail: gregor.wendler@berlin.ihk.de \n  \nAblaufplan 2025
URL:https://www.netzwerk-moabit.de/veranstaltung/ausbildungsrecruitingkongress-finden-fuehren-binden/
LOCATION:IHK Berlin\, Fasanenstr. 85\, Berlin\, Berlin\, 10623\, Germany
ATTACH;FMTTYPE=image/jpeg:https://www.netzwerk-moabit.de/wp-content/uploads/2025/12/logo-handelkammer-png-data.jpeg
END:VEVENT
BEGIN:VEVENT
DTSTART;TZID=Europe/Berlin:20251212T173000
DTEND;TZID=Europe/Berlin:20251212T233000
DTSTAMP:20260422T141100
CREATED:20251112T082003Z
LAST-MODIFIED:20251112T091215Z
UID:1589-1765560600-1765582200@www.netzwerk-moabit.de
SUMMARY:festlichen Beisammensein / Gänseabend - eine Einladung vom Team der SOS-Kinderdörfer
DESCRIPTION:wir laden Sie herzlich zu unserem festlichen Gänseabend ein – ein Abend voller Genuss\, Begegnung und guter Gespräche. \nÜber Ihre Teilnahme würden wir uns sehr freuen und senden herzliche Grüße \nIhr Team vom SOS-Kinderdorf Berlin \nEinfach nach unten scrollen\, auf das Bild klicken – und Sie gelangen direkt zum Anmeldeformular. \n 
URL:https://www.netzwerk-moabit.de/veranstaltung/festlichen-beisammensein-gaenseabend-eine-einladung-vom-team-der-sos-kinderdoerfer/
LOCATION:Botschaft für Kinder\, Lehrter Straße 66\, Berlin\, Berlin\, 10557\, Germany
END:VEVENT
BEGIN:VEVENT
DTSTART;TZID=Europe/Berlin:20251218T180000
DTEND;TZID=Europe/Berlin:20251218T210000
DTSTAMP:20260422T141100
CREATED:20250822T131000Z
LAST-MODIFIED:20251119T151943Z
UID:1481-1766080800-1766091600@www.netzwerk-moabit.de
SUMMARY:Glühwein trinken unter dem Sternenzelt im Planetarium Berlin
DESCRIPTION:Auch in diesem Jahr genießen wir den Abend unseres letzten Treffens unterm „Sternenhimmel“. In diesem Jahr gemeinsam mit den Mitglieder des WK-Mitte\, des UN-Pankow und UN-Friedrichshain-Kreuzberg. Alle kooperierenden Vereine sind herzlich dazu eingeladen. \nPreis pro Person von 25\,00 €\, inklusive MwSt.. \nDarin enthalten ist der Eintritt in das Zeiss Planetarium\, inklusive Filmvorführung\, Glühwein\, Punsch\, Wasser und Gebäck.\nWeitere Getränke oder Speisen sind auf Selbstzahler-Basis erhältlich. \nWir freuen uns auf Ihre / Eure Zusage bis zum 08.12.2025 um 12:00 Uhr.
URL:https://www.netzwerk-moabit.de/veranstaltung/gluehwein-trinken-unter-dem-sternenzelt-im-planetarium-berlin/
END:VEVENT
END:VCALENDAR